BEGIN:VCALENDAR
VERSION:2.0
CALSCALE:GREGORIAN
PRODID:-//MyApp//Calendar 1.0//EN
BEGIN:VEVENT
METHOD:PUBLISH
UID:65859@regionalniportaly.cz
DTSTAMP:20260424T111155Z
DTSTART;VALUE=DATE:20260915
DTEND;VALUE=DATE:20260916
SUMMARY:Zlatá láska - Carmen Mayerová & Petr Kostka
DESCRIPTION:Talk show s Carmen Mayerovou a Petrem Kostkou. Akci moderuje Aleš Cibulka.
LOCATION:Uhlířské Janovice
END:VEVENT
END:VCALENDAR