BEGIN:VCALENDAR
VERSION:2.0
CALSCALE:GREGORIAN
PRODID:-//MyApp//Calendar 1.0//EN
BEGIN:VEVENT
METHOD:PUBLISH
UID:61076@regionalniportaly.cz
DTSTAMP:20260422T042705Z
DTSTART;VALUE=DATE:20260314
DTEND;VALUE=DATE:20260315
SUMMARY:Morčata na útěku\, Ursus
DESCRIPTION:Živá show brněnských komiků Morčata na útěku je již v želivském KD tradiční záležitostí. Přijďte se zasmát netradičnímu podání nejen známých hitů.Dále vystoupí kapela URSUS.
LOCATION:Želiv
END:VEVENT
END:VCALENDAR