BEGIN:VCALENDAR
VERSION:2.0
CALSCALE:GREGORIAN
PRODID:-//MyApp//Calendar 1.0//EN
BEGIN:VEVENT
METHOD:PUBLISH
UID:59264@regionalniportaly.cz
DTSTAMP:20260422T011040Z
DTSTART;VALUE=DATE:20251018
DTEND;VALUE=DATE:20251019
SUMMARY:Marta Jandová Famózní Tour 2025
DESCRIPTION:Již tuto sobotu 18.10.2025 vystoupí Marta Jandová v rámci své vlastní Famózní Tour ve Vlašimi!Přijďte si užít koncert se svými blízkými!
LOCATION:Vlašim
END:VEVENT
END:VCALENDAR