BEGIN:VCALENDAR
VERSION:2.0
CALSCALE:GREGORIAN
PRODID:-//MyApp//Calendar 1.0//EN
BEGIN:VEVENT
METHOD:PUBLISH
UID:59164@regionalniportaly.cz
DTSTAMP:20260421T234757Z
DTSTART;VALUE=DATE:20251119
DTEND;VALUE=DATE:20251120
SUMMARY:Pavel Nečas
DESCRIPTION:Zábavná talkshow s Pavlem Načasem
LOCATION:Uhlířské Janovice
END:VEVENT
END:VCALENDAR