BEGIN:VCALENDAR
VERSION:2.0
CALSCALE:GREGORIAN
PRODID:-//MyApp//Calendar 1.0//EN
BEGIN:VEVENT
METHOD:PUBLISH
UID:55467@regionalniportaly.cz
DTSTAMP:20260421T234823Z
DTSTART;VALUE=DATE:20250705
DTEND;VALUE=DATE:20250706
SUMMARY:Roztěžská heligonka
DESCRIPTION:Spolek přátel Mirka Jiřišty spolu s Obecním úřadem Vidice u Kutné Hory zvou všechny příznivce na tradiční lidovou zábavu na Roztěži v sobotu dne 5. 7. 2025 od 14\,00 hodin.\nV programu vystoupí celá řada muzikantů a zpěváků\, kteří zahrají k poslechu i tanci na parketě venku i ve velkém sále hostince\, v případě nepříznivého počasí jen uvnitř.\nObčerstvení zajištěno\, parkování v místě.
LOCATION:Vidice
END:VEVENT
END:VCALENDAR