BEGIN:VCALENDAR
VERSION:2.0
CALSCALE:GREGORIAN
PRODID:-//MyApp//Calendar 1.0//EN
BEGIN:VEVENT
METHOD:PUBLISH
UID:53919@regionalniportaly.cz
DTSTAMP:20260422T042259Z
DTSTART;VALUE=DATE:20250605
DTEND;VALUE=DATE:20250606
SUMMARY:Jana Rychterová a spol.
DESCRIPTION:Koncert písničkářky v doprovodu skvělých muzikantů / housle\, klavír\, basa\, bicí /. Je to hudba\, která hladí po duši\, dává naději i rozesměje. Texty jsou o láskách i neláskách\, jídle\, pití i věcech všedních. \nVstupenky on-line zde - jsou bez místenky
LOCATION:Vlašim
END:VEVENT
END:VCALENDAR