BEGIN:VCALENDAR
VERSION:2.0
CALSCALE:GREGORIAN
PRODID:-//MyApp//Calendar 1.0//EN
BEGIN:VEVENT
METHOD:PUBLISH
UID:52556@regionalniportaly.cz
DTSTAMP:20260421T234849Z
DTSTART;VALUE=DATE:20250719
DTEND;VALUE=DATE:20250720
SUMMARY:Michal Prokop a Framus Five
DESCRIPTION:Koncert je součástí divadelního festivalu Vokule\, letos již 13. ročníku\, který se koná každoročně v Zámecké zahradě v Mladé Vožici. Pořadatel je divadelní soubor VoživotVozíčkáři u nás vstupné neplatí
LOCATION:Mladá Vožice
END:VEVENT
END:VCALENDAR