BEGIN:VCALENDAR
VERSION:2.0
CALSCALE:GREGORIAN
PRODID:-//MyApp//Calendar 1.0//EN
BEGIN:VEVENT
METHOD:PUBLISH
UID:52466@regionalniportaly.cz
DTSTAMP:20260421T234919Z
DTSTART;VALUE=DATE:20250426
DTEND;VALUE=DATE:20250427
SUMMARY:START MOTO
DESCRIPTION:Nastartujme motory!Pojďme společně zahájit motorkářskou sezónu a užít si víkend plný zábavy adrenalinu a nových přátelství.Startujeme motorkářskou sezónu!Milí motorkáři a milovnice jedné stopy\, je to tady! Slunce začíná hřát\, silnice se probouzí ze zimního spánku a my se opět můžeme vydat vstříc novým dobrodružstvím. Zveme vás na&nbsp\;oficiální zahájení motorkářské sezóny&nbsp\;s pujcmoto.cz\, kde nebude chybět skvělá atmosféra\, dobré jídlo\, hudba a možnost vyzkoušet naše motorky z půjčovny a našeho hlavního partnera Voge.Datum:&nbsp\;26.4. – 27.4.Místo akce:&nbsp\;Světlá\, Louňovice pod Blaníkem&nbsp\;Start akce:&nbsp\;10:00Harmonogram:10:00 - zahájení10:30 - start výpůjčky motorek BMW / VOGE12:00 - jídlo15:00 - vyhlášení cen18:00 - večerní programUbytování:&nbsp\;Na místě ve vlastích stanech\, případně obytných vozech.Těšit se můžete na přátelské setkání s dalšími nadšenci\, testování cestovních motorek BMW a VOGE\, čtyřkolek Loncin\, losování o ceny od našich partnerů a spoustu skvělé zábavy. Přijeďte se s námi rozjet do nové sezóny a užít si první společné kilometry!Nezapomeňte si před startem zkontrolovat motorku\, nebo ji přivezte k nám do pujcmoto.cz a my na ni mrkneme!&nbsp\;Bezpečnost je na prvním místě!Součástí vstupenky je občerstvení od našich mistrů grilu\, uhašení žízně pivem\, limčou\, losování o ceny od našich partnerů a možnost ubytování ve vlastních stanech/karavanech v místě konání akce.V případě\, že si lístky nezakoupíte předem bude možné zakoupit občerstvení na místě\, ale pouze v hotovosti.Těšíme se na vás!
LOCATION:Louňovice pod Blaníkem
END:VEVENT
END:VCALENDAR