BEGIN:VCALENDAR
VERSION:2.0
CALSCALE:GREGORIAN
PRODID:-//MyApp//Calendar 1.0//EN
BEGIN:VEVENT
METHOD:PUBLISH
UID:51537@regionalniportaly.cz
DTSTAMP:20260422T011714Z
DTSTART;VALUE=DATE:20250801
DTEND;VALUE=DATE:20250803
SUMMARY:Right News Music Garden
DESCRIPTION:Jedinečný rodinný festival\, který se koná v zámecké zahradě v&nbsp\;Louňovicích pod Blaníkem\, oznamuje 16.&nbsp\;ročník!
LOCATION:Louňovice pod Blaníkem
END:VEVENT
END:VCALENDAR