BEGIN:VCALENDAR
VERSION:2.0
CALSCALE:GREGORIAN
PRODID:-//MyApp//Calendar 1.0//EN
BEGIN:VEVENT
METHOD:PUBLISH
UID:51304@regionalniportaly.cz
DTSTAMP:20260421T234908Z
DTSTART;VALUE=DATE:20250412
DTEND;VALUE=DATE:20250413
SUMMARY:Manželstvím k lásce
DESCRIPTION:SDH Lensedly ve spolupráci s Libčickým ochotnickým divadlem LOĎ si pro Vás připravili komedii Jana Váchala Manželstvím k lásce.&nbsp\;Komedie je postavena na vtipných dialozích a Vy se tak můžete těšit na večer plný zábavy\, životních mouder a faktů\, ale rozhodně se nebudete nudit!Pauza na popadnutí dechu v délce 20 minut.Od 18:00 pro Vás bude otevřený sál a připraveno občerstvení (pivo\, víno\, chlebíčky a další dobroty).Přejeme vám nezapomenutelný večer s úsměvem na rtech.Vstupenky zakoupené v předprodeji do 4. dubna 2025 za zvýhodněnou cenu 170 Kč\, později zakoupené vstupné za 200 Kč.
LOCATION:Kaliště
END:VEVENT
END:VCALENDAR