BEGIN:VCALENDAR
VERSION:2.0
CALSCALE:GREGORIAN
PRODID:-//MyApp//Calendar 1.0//EN
BEGIN:VEVENT
METHOD:PUBLISH
UID:48058@regionalniportaly.cz
DTSTAMP:20260422T025348Z
DTSTART;VALUE=DATE:20250726
DTEND;VALUE=DATE:20250727
SUMMARY:ROTOR rock
DESCRIPTION:ROTOR rockRotor je kvalitní původní česká tvorba. Rocková hudba\, kterou se skupina prezentuje\, je svým charakterem nezaměnitelná.&nbsp\;Kapela vznikla v roce 1982 v Poříčí nad Sázavou\, zakládajícími členy byli kytarista Jindra Všetečka \, baskytarista Milan Hampl a zpěvák Milan Červenka. Prvním bubeníkem byl Luděk Pokorný.Členové kapelySeznamte se s aktuální sestavou rockové kapely ROTOR.Milan Červenka - ZpěvMilan Tůma - kytara\, zpěvOndřej Krejcárek - basová kytaraJiří Zelí Zelenka - bicí\, zpěvLáďa Tupý - kytaraMilan Červenka jr. - kytara
LOCATION:Heřmaničky
END:VEVENT
END:VCALENDAR