BEGIN:VCALENDAR
VERSION:2.0
CALSCALE:GREGORIAN
PRODID:-//MyApp//Calendar 1.0//EN
BEGIN:VEVENT
METHOD:PUBLISH
UID:47844@regionalniportaly.cz
DTSTAMP:20260422T013016Z
DTSTART;VALUE=DATE:20250718
DTEND;VALUE=DATE:20250719
SUMMARY:BABOUCI - nejstarší jihočeská dechovka
DESCRIPTION:Babouci –&nbsp\;&nbsp\;nejstarší jihočeská dechovka\, hrající nepřetržitě od roku 1868.&nbsp\;Pozvánka na jedinečný zážitek do letního kina Háječek - Heřmaničky - koncert pod širým nebem.Brázdí celou Českou republiku a vystupovali i v Rakousku\, Německu\, Belgii a na Slovensku. Jejich kapelníkem je od 1.5.2019 křídlovák Tomáš Staněk\, který vystřídal ve vedení klarinetistu Petra Shýbala. Nenapodobitelný hráčský styl se udržel díky Václavu Rožboudovi\, který byl členem kapely téměř padesát let a třicet let ji vedl. Po jeho úmrtí na podzim roku 1998 převzal vedení barytonista František Petrách a předal je již zmíněnému Petru Shýbalovi 1.5.2002. Za éry pánů Petrácha a Shýbala natočili Babouci u Kubešova hudebního vydavatelství 15 CD s krásnými jihočeskými písničkami. K nim by ještě letos na podzim mělo přibýt další.
LOCATION:Heřmaničky
END:VEVENT
END:VCALENDAR