BEGIN:VCALENDAR
VERSION:2.0
CALSCALE:GREGORIAN
PRODID:-//MyApp//Calendar 1.0//EN
BEGIN:VEVENT
METHOD:PUBLISH
UID:47569@regionalniportaly.cz
DTSTAMP:20260422T011033Z
DTSTART;VALUE=DATE:20241206
DTEND;VALUE=DATE:20241208
SUMMARY:Bubenický relax na max s DRUM FLOW
DESCRIPTION:Staň se součástí DRUM FLOW víkendu od 6. do 8.12.2024 a přijď si užít hudební tvoření na romantickém Statku Polánka. Připrav se na výjimečný víkend plný hudby\, relaxace a sdílení v krásném prostředí.&nbsp\;POZVÁNKACo tě čeká? Nespoutaná energie a tvořivost v rytmu bubnů a léčivých nástrojů. Odpočinek v nádherné krajině\, rituály\, meditace\, kakaová ceremonie\, práce s krystaly\, esenciální oleje\, saunování a hluboká sdílení s vědomou partou přátel.Skvělou veganskou stravu připraví naše šikovná&nbsp\; kuchařka Máša\, která vaří v duchu projektu udržitelného gastra využívajícího permakulturní zázemí místního Společenství a&nbsp\;sítě prodejen s opravdovým jídlem.&nbsp\;Budeš mít prostor na procházky přírodou nebo lenošení. Můžeš si přivézt vlastní hudební nástroje\, nebo ti rádi zapůjčíme. Těšíme se na společné tvoření kouzelných okamžiků\, s láskou DRUM FLOW.&nbsp\;PROGRAM* Workshop Spontánní bubnování&nbsp\;* Divoký tanec* Zpěv* Kakaová ceremonie* Veganská strava* Sauna (pátek večer\; platí se na místě)&nbsp\;* Relax v přírodě* Joga a čchi-kungDRUM FLOW na Statku Polánka pořádá své již 4. soustředění před letní sezónou 2025. Buď součástí a pojď to s námi rozjet už teď! ❤️🥁 Ubytování na statku\, pokoje jsou vybavené postelemi i lůžkovinami.🥁 Adresa statku: Polánka 8\, 284 01 Polánka - Malešov (u Kutné Hory)🥁 Cena za celý víkend 3200 Kč (Spotánní bubnování®\, zahrnuje kakaovou ceremonii\, ubytování\, veganskou stravu: pátek večeře\, sobota oběd a večeře\, neděle oběd)
LOCATION:Malešov
END:VEVENT
END:VCALENDAR