BEGIN:VCALENDAR
VERSION:2.0
CALSCALE:GREGORIAN
PRODID:-//MyApp//Calendar 1.0//EN
BEGIN:VEVENT
METHOD:PUBLISH
UID:44622@regionalniportaly.cz
DTSTAMP:20260422T012958Z
DTSTART;VALUE=DATE:20240921
DTEND;VALUE=DATE:20240922
SUMMARY:Hudební festival "Strančické záření"
DESCRIPTION:Strančické záření je multižánrový rodinný hudební open festival každoročně pořádaný ve Strančicích u Prahy.Letošní ročník hudebního festivalu nabídne přes 20 programových bodů na krytém pódiu a několika otevřených scénách - koncert\, divadlo\, workshopy a výtvarné aktivity.Letošní ročník proběhne 21. září 2024 parkovém areálu ve Strančicích.Občerstvení bude zajištěno od 13 hodin až po večerní čas konče půlnocí nabídkou piva\, vína a nealko nápojů\, pochoutek z masa\, palačinky\, klobásy\, langoše a mnoho dalšího...Mezi řemeslnými stánky budou prodejci šperků\, oděvních doplňků\, sladkostí\, koláčů\, balónků...\nDěti se mohou těšit z nabídky bohatého programu.Skákací hrad a Workshopy budou nabízené jak Rodinném centrem Lodička\, tak prodejci ve stáncích\, tetováním airbrush\, pískování\, šperkování nebo zajímavý workshop Cool DJ School.\nOrganizátorem akce je Rodinné centrum Lodička ze Všechrom.
LOCATION:Strančice
END:VEVENT
END:VCALENDAR