BEGIN:VCALENDAR
VERSION:2.0
CALSCALE:GREGORIAN
PRODID:-//MyApp//Calendar 1.0//EN
BEGIN:VEVENT
METHOD:PUBLISH
UID:44136@regionalniportaly.cz
DTSTAMP:20260421T234628Z
DTSTART;VALUE=DATE:20240926
DTEND;VALUE=DATE:20240927
SUMMARY:Štístko a Poupěnka poprvé v Kamenici
DESCRIPTION:
LOCATION:Kamenice
END:VEVENT
END:VCALENDAR