BEGIN:VCALENDAR
VERSION:2.0
CALSCALE:GREGORIAN
PRODID:-//MyApp//Calendar 1.0//EN
BEGIN:VEVENT
METHOD:PUBLISH
UID:42431@regionalniportaly.cz
DTSTAMP:20260422T041906Z
DTSTART;VALUE=DATE:20240518
DTEND;VALUE=DATE:20240519
SUMMARY:Kluboofka Fest No.2
DESCRIPTION:Rock/metalový festival KLUBOOFKA FEST 2024 se po úspěšném prvním dílu v brněnském klubu MELODKA přesouvá v celé své parádě do baru Na Koupáku ve Vlašimi. V sobotu 18.5.2024 úderem 16. hodiny odstartuje celý festival první kapela.Na festivalu vystoupí brněnská kapela Aldabra\, která svým hard-rockem každého rozhodně zvedne ze židle. Druhá kapela 100na100 z dalekého Frýdku-Místku Vám přiveze nefalšovaný rock s charismatickou zpěvačkou. Jako třetí dorazí Metanol z Hradce Králové. Kluci o sobě říkají\, že hrajou prostě a jednoduše metal! A jako poslední vystoupí na festivalu KLUBOOFKA FEST 2024 domácí metalová kapela Allmara. Allmara si pro svoje fanoušky připravila nekompromisní hudební zážitek a pořádnou show!Vstupenky v předprodeji bude možné zakoupit přímo v baru Na Koupáku\, v Květinářství na náměstí v Benešově a v Reha cafe (nové rehabilitační centrum Nemocnice Rudolfa a Stefanie Benešov).Areál baru Na Koupáku je částečně zastřešen\, festival se proto bude konat za každého počasí.Na místě bude zajištěno bohaté občerstvení.Bezplatné parkoviště se nachází v těsné blízkosti areálu.Line-up:16:00 100na10017:30 Aldabra19:00 Metanol20:30 Allmara
LOCATION:Vlašim
END:VEVENT
END:VCALENDAR