BEGIN:VCALENDAR
VERSION:2.0
CALSCALE:GREGORIAN
PRODID:-//MyApp//Calendar 1.0//EN
BEGIN:VEVENT
METHOD:PUBLISH
UID:41653@regionalniportaly.cz
DTSTAMP:20260422T013006Z
DTSTART;VALUE=DATE:20240630
DTEND;VALUE=DATE:20240701
SUMMARY:Dialogy hlasů
DESCRIPTION:Romantické příběhy vyprávěné i zpívané - to je koncert Dialogy hlasu\, který přináší tvorbu německých písňových romantiků\, i českého skladatele Jana Zástěry\, potažmo Williama Shakespeara.Písňový cyklus Roberta Schumanna Láska a život ženy\, stejně jako Čtyři poslední písně Richarda Strausse zazní v německém originále v podání sopranistky Miroslavy Časarové\, tak i v českém přebásnění\, které bude interpretovat herec Petr Stach.To vše za doprovodu vynikajícího klavíristy Daniela Wiesnera.Druhá polovina koncertu se pak ponese ve znamení Williama Shakespera a jeho Sonetů. Výběr z nich přečte Petr Stach. Miroslava Časarová se pak chopí hudební podoby sonetů\, kterou jim vtiskl mladý český skladatel Jan Zástěra.Program:Robert Schumann - Láska a život ženyRichard Strauss - Čtyři poslední písněJan Zástěra - Sonety&nbsp\;
LOCATION:Kaliště
END:VEVENT
END:VCALENDAR