BEGIN:VCALENDAR
VERSION:2.0
CALSCALE:GREGORIAN
PRODID:-//MyApp//Calendar 1.0//EN
BEGIN:VEVENT
METHOD:PUBLISH
UID:39143@regionalniportaly.cz
DTSTAMP:20260422T011245Z
DTSTART;VALUE=DATE:20240309
DTEND;VALUE=DATE:20240310
SUMMARY:Majda a Petr: Hurá na duchy aneb Zachraňme divadlo
DESCRIPTION:Hrají: Magdalena Reifová a Petr VacekNa Divadlo pohádek se řítí katastrofa! Duchové se rozhodli obsadit naše divadlo. Vyvádějí různé neplechy a kazí představení. Vedení divadla stojí před těžkým rozhodnutím\, jestli nemá dnešní představení pro jistotu zrušit. Celý pořad je provázen písničkami H. Navarové na texty J. Vodňanského.
LOCATION:Mladá Vožice
END:VEVENT
END:VCALENDAR