BEGIN:VCALENDAR
VERSION:2.0
CALSCALE:GREGORIAN
PRODID:-//MyApp//Calendar 1.0//EN
BEGIN:VEVENT
METHOD:PUBLISH
UID:38721@regionalniportaly.cz
DTSTAMP:20260422T013115Z
DTSTART;VALUE=DATE:20240227
DTEND;VALUE=DATE:20240228
SUMMARY:ZMRZLÉ SVĚTY/ Frozen worlds
DESCRIPTION:Cestovatelská přednáška milovníka severské přírody Vás zavede&nbsp\;do zasněžených dálek plných úchvatných přírodních scenérií a divokých zvířat.Jan Hvízdal – profesionální průvodce v divočině\, musher na Špicberkách\, historik a expediční průvodce na Antarktidě\, guide a fotograf na malé expediční norské lodi – je zkrátka tou nejpovolanější osobou\, která vás může severskou přírodou provést.Honza do dobročinné aukce věnoval čtyři dechberoucí fotografie ze svých cest vyjadřující život těch nejzranitelnějších živočichů v jejich přirozeném prostředí. Aukce běží prostřednictvím první dobročinné aukční platformy DOBROBOT.cz Budete si je také&nbsp\;moci prohlédnout v rámci přednášky. Aukce končí 27/2/2024 ve 20:00\, po přednášce.&nbsp\;Výtěžek poputuje ve prospěch Hospice Dobrého Pastýře na péči o nevyléčitelně nemocné pacienty.&nbsp\;
LOCATION:Čerčany
END:VEVENT
END:VCALENDAR