BEGIN:VCALENDAR
VERSION:2.0
CALSCALE:GREGORIAN
PRODID:-//MyApp//Calendar 1.0//EN
BEGIN:VEVENT
METHOD:PUBLISH
UID:38351@regionalniportaly.cz
DTSTAMP:20260422T042014Z
DTSTART;VALUE=DATE:20240321
DTEND;VALUE=DATE:20240322
SUMMARY:Štístko a Poupěnka - Pojď si hrát!
DESCRIPTION:Broučkové\, pojďte si s námi hrát!Opět se setkáte s panem Doremi\, Honzíkem a samozřejmě s námi: Štístkem a Poupěnkou. Nebudou chybět písničky z našeho nového filmu “Pojď si hrát” jako Skáčeme nebo Loleta Popleta. Dočkáte se ale i oblíbeného hitu Jojojo\, nenene nebo Brontosaurus. A možná zavítáme i do Afriky s Hakuna Matata!  Délka představení: 60 minut + autogramiáda a foceníDoporučený věk: od 2 letKaždá osoba (dospělý i každé dítě bez omezení věku) musí mít platnou vstupenku! Do sálu můžeme vpustit jenom tolik osob\, kolik je míst v sálu.Vstupenky jsou v prodeji v síti Ticketportal. Ke 4 lístkům dostanete jako dárek DVD nebo měsíční předplatné na www.kukino.tv
LOCATION:Vlašim
END:VEVENT
END:VCALENDAR