BEGIN:VCALENDAR
VERSION:2.0
CALSCALE:GREGORIAN
PRODID:-//MyApp//Calendar 1.0//EN
BEGIN:VEVENT
METHOD:PUBLISH
UID:35404@regionalniportaly.cz
DTSTAMP:20260422T042715Z
DTSTART;VALUE=DATE:20231214
DTEND;VALUE=DATE:20231215
SUMMARY:Můj životní kouč ve Vlašimi
DESCRIPTION:Patrick Marmignon trpí vzácnou nemocí zvanou dobrota\, takže není divu\, že dobráka od kosti kdekdo zneužívá. Neumí nikomu říct ne\, matce slouží jako hromosvod a děvče pro všechno\, sestra z něj tahá peníze\, šéf mu nakládá práci bez nároku na odměnu. Patrick je ke všemu po uši zamilovaný do své krásné kolegyně Vanessy\, která má ovšem oči jen pro svého přítele\, nezaměstnaného instruktora curlingu. A Marmignon je příliš stydlivý na to\, aby se jí vyznal. V momentě nejvyššího zoufalství se obrátí přes inzerát na osobního kouče Xerxa Chêna. Hledá u něj návod\, jak konečně vzít osud do svých rukou!&nbsp\;Hrají: David Suchařípa\, Pavel Nečas\, Jakub Štěpán\, Alena Hladká
LOCATION:Vlašim
END:VEVENT
END:VCALENDAR