BEGIN:VCALENDAR
VERSION:2.0
CALSCALE:GREGORIAN
PRODID:-//MyApp//Calendar 1.0//EN
BEGIN:VEVENT
METHOD:PUBLISH
UID:34911@regionalniportaly.cz
DTSTAMP:20260421T234748Z
DTSTART;VALUE=DATE:20231112
DTEND;VALUE=DATE:20231113
SUMMARY:Chlap na zabití ve Vlašimi
DESCRIPTION:Francouzská komedie o tom\, jak se profesionální zabiják stane obětí sebevraha.Když se setká nekompromisní nájemný zabiják&nbsp\;s nesmělým ztroskotancem\, který se snaží spáchat sebevraždu\, může to na první pohled vypadat\, jako snadná práce. Opak je však pravdou... Precizně připravenou akci mu však začne narušovat dotěrný soused z vedlejšího hotelového pokoje&nbsp\;François&nbsp\;Pignon. Po neúspěšném pokusu se oběsit\, chce hotelový poslíček zavolat policii\, což se Ralphovi vůbec nehodí\, proto se rozhodne\, že situaci vyřeší sám. Netuší však\, že zbavit se toho dotěrného chlapa bude nad jeho síly...Postavy a obsazení:François&nbsp\;Pignon: Miroslav VladykaRalph Milan: Filip Blažekdoktor Wolf: Michal SlanýLouise: Alžbeta Stanková&nbsp\;číšník Vincent: Zdeněk Rohlíček&nbsp\;policista Alain: Pavel Dvořák&nbsp\;&nbsp\;
LOCATION:Vlašim
END:VEVENT
END:VCALENDAR