BEGIN:VCALENDAR
VERSION:2.0
CALSCALE:GREGORIAN
PRODID:-//MyApp//Calendar 1.0//EN
BEGIN:VEVENT
METHOD:PUBLISH
UID:32422@regionalniportaly.cz
DTSTAMP:20260421T191507Z
DTSTART;VALUE=DATE:20230506
DTEND;VALUE=DATE:20230507
SUMMARY:Kurz bylinkářství v Experimentální zahradě
DESCRIPTION:Jarní propojení s&nbsp\;bylinami v&nbsp\;Experimentální zahradě pod Blaníkem.Zveme Vás na druhou a zároveň poslední jarní přednášku/besedu a workshop letošního roku s&nbsp\;magickým číslem 23.Hlavními tématy budou první sbírané byliny\, květy i kořeny\, jarní očista\, jedlé bylinky a nastartování organismu po zimě.Pojďme se propojit s&nbsp\;naší přírodou v&nbsp\;podhůří Blaníku\, při procházce po okolí se naučíme\, které bylinky sbírat pro jarní očistu\, na "smoothie"\, či jiné kuchyňské využití. Součástí besedy bude i ochutnávka domácích bylinkových dobrot a získáte od nás recepty jak na ně.Ale hlavně budeme si povídat o možnostech detoxikace a o tom\, jak uchovat jarní sílu rostlin po zbytek roku\, pro naše zdraví i potěchu duše.Přednáška se bude konat v sobotu od 14:00 s maximální kapacitou 8 osob.&nbsp\;Akce se koná za každého počasí. Doporučujeme si s sebou vzít pevnou obuv\, košík a nůžky.&nbsp\;Součástí přednášky bude také komentovaná prohlídka celé naší bylinkové zahrady.Besedou Vás bude provázet bylinkářka Hanka.Těšíme se na vás!&nbsp\;Herba·Roja&nbsp\;Experimentální zahrada pod BlaníkemKarhule 1\,&nbsp\;Pravonín - Karhule
LOCATION:Pravonín
END:VEVENT
END:VCALENDAR